BEGIN:VCALENDAR
VERSION:2.0
PRODID:-//Louisendorf - ECPv6.0.6.2//NONSGML v1.0//EN
CALSCALE:GREGORIAN
METHOD:PUBLISH
X-WR-CALNAME:Louisendorf
X-ORIGINAL-URL:https://louisendorf.de
X-WR-CALDESC:Events for Louisendorf
REFRESH-INTERVAL;VALUE=DURATION:PT1H
X-Robots-Tag:noindex
X-PUBLISHED-TTL:PT1H
BEGIN:VTIMEZONE
TZID:Europe/Berlin
BEGIN:DAYLIGHT
TZOFFSETFROM:+0100
TZOFFSETTO:+0200
TZNAME:CEST
DTSTART:20250330T010000
END:DAYLIGHT
BEGIN:STANDARD
TZOFFSETFROM:+0200
TZOFFSETTO:+0100
TZNAME:CET
DTSTART:20251026T010000
END:STANDARD
BEGIN:DAYLIGHT
TZOFFSETFROM:+0100
TZOFFSETTO:+0200
TZNAME:CEST
DTSTART:20260329T010000
END:DAYLIGHT
BEGIN:STANDARD
TZOFFSETFROM:+0200
TZOFFSETTO:+0100
TZNAME:CET
DTSTART:20261025T010000
END:STANDARD
END:VTIMEZONE
BEGIN:VEVENT
DTSTART;TZID=Europe/Berlin:20260404T163000
DTEND;TZID=Europe/Berlin:20260404T163000
DTSTAMP:20260420T000231
CREATED:20260302T182844Z
LAST-MODIFIED:20260302T182844Z
UID:3123-1775320200-1775320200@louisendorf.de
SUMMARY:Familienosterfeuer
DESCRIPTION:
URL:https://louisendorf.de/veranstaltung/familienosterfeuer-2/
LOCATION:Sportplatz\, Hauptstraße 51\, Bedburg-Hau\, NRW\, 47551\, Deutschland
CATEGORIES:Kalender
END:VEVENT
BEGIN:VEVENT
DTSTART;TZID=Europe/Berlin:20260328T150000
DTEND;TZID=Europe/Berlin:20260328T150000
DTSTAMP:20260420T000231
CREATED:20260302T182759Z
LAST-MODIFIED:20260302T182759Z
UID:3121-1774710000-1774710000@louisendorf.de
SUMMARY:JHV des Pfälzerbundes in Neulouisendorf
DESCRIPTION:
URL:https://louisendorf.de/veranstaltung/jhv-des-pfaelzerbundes-in-neulouisendorf/
LOCATION:NRW
CATEGORIES:Kalender
END:VEVENT
BEGIN:VEVENT
DTSTART;TZID=Europe/Berlin:20260328T120000
DTEND;TZID=Europe/Berlin:20260328T120000
DTSTAMP:20260420T000231
CREATED:20260302T182734Z
LAST-MODIFIED:20260302T182734Z
UID:3119-1774699200-1774699200@louisendorf.de
SUMMARY:Brot backen mit dem Heimatverein
DESCRIPTION:
URL:https://louisendorf.de/veranstaltung/brot-backen-mit-dem-heimatverein/
LOCATION:Sportplatz\, Hauptstraße 51\, Bedburg-Hau\, NRW\, 47551\, Deutschland
CATEGORIES:Kalender
ORGANIZER;CN="Verein%20f%C3%BCr%20Heimatpflege":MAILTO:karla-schiemann@gmx.net
END:VEVENT
BEGIN:VEVENT
DTSTART;TZID=Europe/Berlin:20260323T190000
DTEND;TZID=Europe/Berlin:20260323T190000
DTSTAMP:20260420T000231
CREATED:20260302T182651Z
LAST-MODIFIED:20260302T182651Z
UID:3117-1774292400-1774292400@louisendorf.de
SUMMARY:Delegiertenversammlung
DESCRIPTION:
URL:https://louisendorf.de/veranstaltung/delegiertenversammlung-3/
LOCATION:Ehemalige Schule\, Hauptstraße 47\, Bedburg-Hau\, 47551\, Deutschland
CATEGORIES:Kalender
END:VEVENT
BEGIN:VEVENT
DTSTART;TZID=Europe/Berlin:20260316T193000
DTEND;TZID=Europe/Berlin:20260316T193000
DTSTAMP:20260420T000231
CREATED:20260302T182603Z
LAST-MODIFIED:20260302T182603Z
UID:3113-1773689400-1773689400@louisendorf.de
SUMMARY:Kirmes AG
DESCRIPTION:
URL:https://louisendorf.de/veranstaltung/kirmes-ag/
LOCATION:NRW
CATEGORIES:Kalender
END:VEVENT
BEGIN:VEVENT
DTSTART;TZID=Europe/Berlin:20260308T140000
DTEND;TZID=Europe/Berlin:20260308T170000
DTSTAMP:20260420T000231
CREATED:20260302T182540Z
LAST-MODIFIED:20260302T182540Z
UID:3111-1772978400-1772989200@louisendorf.de
SUMMARY:Frühlingsmarkt in der Scheunenbastelei
DESCRIPTION:
URL:https://louisendorf.de/veranstaltung/fruehlingsmarkt-in-der-scheunenbastelei/
LOCATION:Lerchenweg 22\, Lerchenweg 22\, Bedburg-Hau\, NRW\, 47551\, Deutschland
CATEGORIES:Kalender
END:VEVENT
BEGIN:VEVENT
DTSTART;TZID=Europe/Berlin:20260306T193000
DTEND;TZID=Europe/Berlin:20260306T193000
DTSTAMP:20260420T000231
CREATED:20260302T182455Z
LAST-MODIFIED:20260302T182455Z
UID:3109-1772825400-1772825400@louisendorf.de
SUMMARY:Jahreshauptversammlung BSV
DESCRIPTION:
URL:https://louisendorf.de/veranstaltung/jahreshauptversammlung-bsv/
LOCATION:Ehemalige Schule\, Hauptstraße 47\, Bedburg-Hau\, 47551\, Deutschland
CATEGORIES:Kalender
END:VEVENT
BEGIN:VEVENT
DTSTART;TZID=Europe/Berlin:20260302T080000
DTEND;TZID=Europe/Berlin:20260302T170000
DTSTAMP:20260420T000231
CREATED:20260302T182629Z
LAST-MODIFIED:20260302T182629Z
UID:3115-1772438400-1772470800@louisendorf.de
SUMMARY:Dorfreinigung
DESCRIPTION:
URL:https://louisendorf.de/veranstaltung/dorfreinigung/
LOCATION:Gerätehaus\, Haupstraße 51\, Bedburg-Hau\, NRW\, 47551\, Deutschland
CATEGORIES:Kalender
END:VEVENT
BEGIN:VEVENT
DTSTART;TZID=Europe/Berlin:20251231T163000
DTEND;TZID=Europe/Berlin:20251231T163000
DTSTAMP:20260420T000231
CREATED:20250126T141640Z
LAST-MODIFIED:20250126T141640Z
UID:2968-1767198600-1767198600@louisendorf.de
SUMMARY:Alt-Jahresgottesdienst
DESCRIPTION:
URL:https://louisendorf.de/veranstaltung/alt-jahresgottesdienst/
LOCATION:Elisabethkirche\, Louisenplatz\, Bedburg-Hau\, 47551
CATEGORIES:Kalender
END:VEVENT
BEGIN:VEVENT
DTSTART;TZID=Europe/Berlin:20251225T093000
DTEND;TZID=Europe/Berlin:20251225T093000
DTSTAMP:20260420T000231
CREATED:20250126T141547Z
LAST-MODIFIED:20250126T141547Z
UID:2966-1766655000-1766655000@louisendorf.de
SUMMARY:Gottesdienst mit Abendmahl
DESCRIPTION:
URL:https://louisendorf.de/veranstaltung/gottesdienst-mit-abendmahl-7/
LOCATION:Elisabethkirche\, Louisenplatz\, Bedburg-Hau\, 47551
CATEGORIES:Kalender
END:VEVENT
BEGIN:VEVENT
DTSTART;TZID=Europe/Berlin:20251224T163000
DTEND;TZID=Europe/Berlin:20251224T163000
DTSTAMP:20260420T000231
CREATED:20250126T141453Z
LAST-MODIFIED:20250126T141453Z
UID:2964-1766593800-1766593800@louisendorf.de
SUMMARY:Weihnachtsgottesdienst
DESCRIPTION:
URL:https://louisendorf.de/veranstaltung/weihnachtsgottesdienst/
LOCATION:Elisabethkirche\, Louisenplatz\, Bedburg-Hau\, 47551
CATEGORIES:Kalender
END:VEVENT
BEGIN:VEVENT
DTSTART;TZID=Europe/Berlin:20251219T170000
DTEND;TZID=Europe/Berlin:20251219T170000
DTSTAMP:20260420T000231
CREATED:20251111T191726Z
LAST-MODIFIED:20251111T191726Z
UID:3084-1766163600-1766163600@louisendorf.de
SUMMARY:Schlepperparade im Weihnachtsglanz
DESCRIPTION:
URL:https://louisendorf.de/veranstaltung/schlepperparade-im-weihnachtsglanz-2/
LOCATION:Elisabethkirche\, Louisenplatz\, Bedburg-Hau\, 47551
CATEGORIES:Kalender
END:VEVENT
BEGIN:VEVENT
DTSTART;TZID=Europe/Berlin:20251217T180000
DTEND;TZID=Europe/Berlin:20251217T180000
DTSTAMP:20260420T000231
CREATED:20251111T191643Z
LAST-MODIFIED:20251111T191643Z
UID:3082-1765994400-1765994400@louisendorf.de
SUMMARY:Treffen an der Feuerschale
DESCRIPTION:
URL:https://louisendorf.de/veranstaltung/treffen-an-der-feuerschale/
LOCATION:Gerätehaus\, Haupstraße 51\, Bedburg-Hau\, NRW\, 47551\, Deutschland
CATEGORIES:Kalender
END:VEVENT
BEGIN:VEVENT
DTSTART;TZID=Europe/Berlin:20251216T193000
DTEND;TZID=Europe/Berlin:20251216T193000
DTSTAMP:20260420T000231
CREATED:20250126T141408Z
LAST-MODIFIED:20250126T141408Z
UID:2962-1765913400-1765913400@louisendorf.de
SUMMARY:Chorprobe
DESCRIPTION:
URL:https://louisendorf.de/veranstaltung/chorprobe-37/
LOCATION:Elisabethkirche\, Louisenplatz\, Bedburg-Hau\, 47551
CATEGORIES:Kalender
END:VEVENT
BEGIN:VEVENT
DTSTART;TZID=Europe/Berlin:20251215T190000
DTEND;TZID=Europe/Berlin:20251215T200000
DTSTAMP:20260420T000231
CREATED:20251111T191554Z
LAST-MODIFIED:20251111T191554Z
UID:3080-1765825200-1765828800@louisendorf.de
SUMMARY:Badminton Weihnachtsschnuppern
DESCRIPTION:
URL:https://louisendorf.de/veranstaltung/badminton-weihnachtsschnuppern-3/
LOCATION:Sportplatz\, Hauptstraße 51\, Bedburg-Hau\, NRW\, 47551\, Deutschland
CATEGORIES:Kalender
END:VEVENT
BEGIN:VEVENT
DTSTART;TZID=Europe/Berlin:20251214T130000
DTEND;TZID=Europe/Berlin:20251214T180000
DTSTAMP:20260420T000231
CREATED:20251111T191513Z
LAST-MODIFIED:20251111T191513Z
UID:3077-1765717200-1765735200@louisendorf.de
SUMMARY:Adventszauber beginnt dort\, wo wir zusammenkommen
DESCRIPTION:Weihnachtliche Betonarbeiten und Geschenke fürs ganze jahr. Für das leibliche Wohl ist bestens gesorgt.
URL:https://louisendorf.de/veranstaltung/adventszauber-beginnt-dort-wo-wir-zusammenkommen/
LOCATION:Louisenplatz 32\, Louisenplatz 32\, Bedbugr-Hau\, NRW\, 47551\, Germany
CATEGORIES:Kalender
END:VEVENT
BEGIN:VEVENT
DTSTART;TZID=Europe/Berlin:20251214T093000
DTEND;TZID=Europe/Berlin:20251214T093000
DTSTAMP:20260420T000231
CREATED:20250126T141312Z
LAST-MODIFIED:20250126T141312Z
UID:2960-1765704600-1765704600@louisendorf.de
SUMMARY:Gottesdienst mit Abendmahl
DESCRIPTION:
URL:https://louisendorf.de/veranstaltung/gottesdienst-mit-abendmahl-6/
LOCATION:Elisabethkirche\, Louisenplatz\, Bedburg-Hau\, 47551
CATEGORIES:Kalender
END:VEVENT
BEGIN:VEVENT
DTSTART;TZID=Europe/Berlin:20251213T150000
DTEND;TZID=Europe/Berlin:20251213T150000
DTSTAMP:20260420T000231
CREATED:20251109T185732Z
LAST-MODIFIED:20251109T185732Z
UID:3070-1765638000-1765638000@louisendorf.de
SUMMARY:In der Weihnachtsbäckerei
DESCRIPTION:
URL:https://louisendorf.de/veranstaltung/in-der-weihnachtsbaeckerei/
LOCATION:Sportplatz\, Hauptstraße 51\, Bedburg-Hau\, NRW\, 47551\, Deutschland
CATEGORIES:Kalender
END:VEVENT
BEGIN:VEVENT
DTSTART;TZID=Europe/Berlin:20251212T180000
DTEND;TZID=Europe/Berlin:20251212T210000
DTSTAMP:20260420T000231
CREATED:20251109T185647Z
LAST-MODIFIED:20251109T185647Z
UID:3068-1765562400-1765573200@louisendorf.de
SUMMARY:Geschenke aus der Gartenküche
DESCRIPTION:
URL:https://louisendorf.de/veranstaltung/geschenke-aus-der-gartenkueche-2/
LOCATION:Louisenplatz 22a\, Louisenplatz 22a\, Bedburg-Hau\, NRW\, 47551\, Deutschland
CATEGORIES:Kalender
END:VEVENT
BEGIN:VEVENT
DTSTART;TZID=Europe/Berlin:20251207T180000
DTEND;TZID=Europe/Berlin:20251207T180000
DTSTAMP:20260420T000231
CREATED:20251109T185429Z
LAST-MODIFIED:20251109T185429Z
UID:3066-1765130400-1765130400@louisendorf.de
SUMMARY:Weihnachten mit den Cornflowers
DESCRIPTION:
URL:https://louisendorf.de/veranstaltung/weihnachten-mit-den-cornflowers-3/
LOCATION:Elisabethkirche\, Louisenplatz\, Bedburg-Hau\, 47551
CATEGORIES:Kalender
END:VEVENT
BEGIN:VEVENT
DTSTART;TZID=Europe/Berlin:20251207T103000
DTEND;TZID=Europe/Berlin:20251207T103000
DTSTAMP:20260420T000231
CREATED:20250126T141226Z
LAST-MODIFIED:20250126T141226Z
UID:2958-1765103400-1765103400@louisendorf.de
SUMMARY:Jakob-Imig-Archiv geöffnet
DESCRIPTION:
URL:https://louisendorf.de/veranstaltung/jakob-imig-archiv-geoeffnet-35/
LOCATION:Jakob-Imig-Archiv\, Hauptstraße 47\, Bedburg-Hau\, NRW\, 47551\, Deutschland
CATEGORIES:Kalender
END:VEVENT
BEGIN:VEVENT
DTSTART;TZID=Europe/Berlin:20251206T170000
DTEND;TZID=Europe/Berlin:20251206T200000
DTSTAMP:20260420T000231
CREATED:20251109T185354Z
LAST-MODIFIED:20251109T185354Z
UID:3064-1765040400-1765051200@louisendorf.de
SUMMARY:Der Nicolaus kommt zum Café Pollmann
DESCRIPTION:
URL:https://louisendorf.de/veranstaltung/der-nicolaus-kommt-zum-cafe-pollmann/
LOCATION:Café Pollmann\, Hauptstraße 21\, Bedburg-Hau\, NRW\, 47551\, Deutschland
CATEGORIES:Kalender
END:VEVENT
BEGIN:VEVENT
DTSTART;TZID=Europe/Berlin:20251205T150000
DTEND;TZID=Europe/Berlin:20251205T150000
DTSTAMP:20260420T000231
CREATED:20251109T185314Z
LAST-MODIFIED:20251109T185314Z
UID:3061-1764946800-1764946800@louisendorf.de
SUMMARY:Scheunenzauber
DESCRIPTION:Leckeres und Kreatives bei Kaffee und Kuchen\, Handarbeiten und Basteleien. \nSpeckulatius backen vor Ort\, Spendenaktion für die Elisabethkirche
URL:https://louisendorf.de/veranstaltung/scheunenzauber/
LOCATION:Imigstraße 54\, Imigstraße 54\, Bedbugr-Hau\, NRW\, 47551\, Germany
CATEGORIES:Kalender
END:VEVENT
BEGIN:VEVENT
DTSTART;TZID=Europe/Berlin:20251201T180000
DTEND;TZID=Europe/Berlin:20251201T190000
DTSTAMP:20260420T000231
CREATED:20251109T185105Z
LAST-MODIFIED:20251109T185105Z
UID:3059-1764612000-1764615600@louisendorf.de
SUMMARY:Yoga Schnupperstunde
DESCRIPTION:
URL:https://louisendorf.de/veranstaltung/yoga-schnupperstunde/
LOCATION:Sportplatz\, Hauptstraße 51\, Bedburg-Hau\, NRW\, 47551\, Deutschland
CATEGORIES:Kalender
END:VEVENT
BEGIN:VEVENT
DTSTART;TZID=Europe/Berlin:20251130T140000
DTEND;TZID=Europe/Berlin:20251130T180000
DTSTAMP:20260420T000231
CREATED:20251109T185029Z
LAST-MODIFIED:20251109T185029Z
UID:3057-1764511200-1764525600@louisendorf.de
SUMMARY:Weihnachtsfotos bei Glühwein und Naschereien
DESCRIPTION:
URL:https://louisendorf.de/veranstaltung/weihnachtsfotos-bei-gluehwein-und-naschereien/
LOCATION:FotoMel\, Spehstraße 54\, Bedburg-Hau\, 47551\, Deutschland
CATEGORIES:Kalender
END:VEVENT
BEGIN:VEVENT
DTSTART;TZID=Europe/Berlin:20251130T103000
DTEND;TZID=Europe/Berlin:20251130T103000
DTSTAMP:20260420T000231
CREATED:20251109T184950Z
LAST-MODIFIED:20251109T184950Z
UID:3055-1764498600-1764498600@louisendorf.de
SUMMARY:Weihnachten mittendrin
DESCRIPTION:
URL:https://louisendorf.de/veranstaltung/weihnachten-mittendrin-2/
LOCATION:Elisabethkirche\, Louisenplatz\, Bedburg-Hau\, 47551
CATEGORIES:Kalender
END:VEVENT
BEGIN:VEVENT
DTSTART;TZID=Europe/Berlin:20251130T093000
DTEND;TZID=Europe/Berlin:20251130T093000
DTSTAMP:20260420T000231
CREATED:20250126T141115Z
LAST-MODIFIED:20250126T141115Z
UID:2956-1764495000-1764495000@louisendorf.de
SUMMARY:Familiengottesdienst (1. Advent)
DESCRIPTION:
URL:https://louisendorf.de/veranstaltung/familiengottesdienst-1-advent/
LOCATION:Elisabethkirche\, Louisenplatz\, Bedburg-Hau\, 47551
CATEGORIES:Kalender
END:VEVENT
BEGIN:VEVENT
DTSTART;TZID=Europe/Berlin:20251129T180000
DTEND;TZID=Europe/Berlin:20251129T180000
DTSTAMP:20260420T000231
CREATED:20250126T141042Z
LAST-MODIFIED:20250126T141042Z
UID:2954-1764439200-1764439200@louisendorf.de
SUMMARY:Treffen Landmaschinenfreunde
DESCRIPTION:
URL:https://louisendorf.de/veranstaltung/treffen-landmaschinenfreunde-6/
LOCATION:NRW
CATEGORIES:Kalender
END:VEVENT
BEGIN:VEVENT
DTSTART;TZID=Europe/Berlin:20251128T150000
DTEND;TZID=Europe/Berlin:20251128T200000
DTSTAMP:20260420T000231
CREATED:20251109T184912Z
LAST-MODIFIED:20251109T184912Z
UID:3053-1764342000-1764360000@louisendorf.de
SUMMARY:Karten\, Dekorationen und Mitbringsel
DESCRIPTION:
URL:https://louisendorf.de/veranstaltung/karten-dekorationen-und-mitbringsel/
LOCATION:Lerchenweg 22\, Lerchenweg 22\, Bedburg-Hau\, NRW\, 47551\, Deutschland
CATEGORIES:Kalender
END:VEVENT
BEGIN:VEVENT
DTSTART;TZID=Europe/Berlin:20251124T190000
DTEND;TZID=Europe/Berlin:20251124T190000
DTSTAMP:20260420T000231
CREATED:20250126T140902Z
LAST-MODIFIED:20250126T140902Z
UID:2952-1764010800-1764010800@louisendorf.de
SUMMARY:Erweiterte Vorstandssitzung
DESCRIPTION:
URL:https://louisendorf.de/veranstaltung/erweiterte-vorstandssitzung-3/
LOCATION:SSV-Treff\, Hauptstraße\, Bedburg-Hau\, 47551
CATEGORIES:Kalender
END:VEVENT
END:VCALENDAR